BEGIN:VCALENDAR
VERSION:2.0
PRODID:-// - ECPv6.15.20//NONSGML v1.0//EN
CALSCALE:GREGORIAN
METHOD:PUBLISH
X-ORIGINAL-URL:https://rainbowlovina.com
X-WR-CALDESC:Events for 
REFRESH-INTERVAL;VALUE=DURATION:PT1H
X-Robots-Tag:noindex
X-PUBLISHED-TTL:PT1H
BEGIN:VTIMEZONE
TZID:America/Chicago
BEGIN:DAYLIGHT
TZOFFSETFROM:-0600
TZOFFSETTO:-0500
TZNAME:CDT
DTSTART:20250309T080000
END:DAYLIGHT
BEGIN:STANDARD
TZOFFSETFROM:-0500
TZOFFSETTO:-0600
TZNAME:CST
DTSTART:20251102T070000
END:STANDARD
BEGIN:DAYLIGHT
TZOFFSETFROM:-0600
TZOFFSETTO:-0500
TZNAME:CDT
DTSTART:20260308T080000
END:DAYLIGHT
BEGIN:STANDARD
TZOFFSETFROM:-0500
TZOFFSETTO:-0600
TZNAME:CST
DTSTART:20261101T070000
END:STANDARD
BEGIN:DAYLIGHT
TZOFFSETFROM:-0600
TZOFFSETTO:-0500
TZNAME:CDT
DTSTART:20270314T080000
END:DAYLIGHT
BEGIN:STANDARD
TZOFFSETFROM:-0500
TZOFFSETTO:-0600
TZNAME:CST
DTSTART:20271107T070000
END:STANDARD
END:VTIMEZONE
BEGIN:VEVENT
DTSTART;TZID=America/Chicago:20260506T183000
DTEND;TZID=America/Chicago:20260506T193000
DTSTAMP:20260425T065315
CREATED:20251229T150832Z
LAST-MODIFIED:20251229T152219Z
UID:10000658-1778092200-1778095800@rainbowlovina.com
SUMMARY:Chant The Tibetan Heart Mantras
DESCRIPTION:Chant The Tibetan Heart Mantras\n\n\n\nMay 6th @ 6.30pm-7.30pm on Zoom – $25\n\n\n\n\n✨Clear Obstacles\, Calm The Mind\, Shift Your Karma✨ \nDiscover the transformative power of Tibetan mantras – an ancient practice used to dissolve obstacles\, quiet mental noise and return you to inner peace. \nThrough mantra chanting\, you’ll learn how to: \n\nRelease stress and emotional blocks\nGain clarity and strengthen intuition\nTransform difficult emotions into wisdom\nConsciously shift karmic patterns \n\nThis is a guided welcoming space for everyone – beginners through Tse Dup practitioners\, Drup Shen and Lopons. \n✨ No experience needed.\n✨ Step-by-step instruction provided.\n✨ Learn the melodies of these beautiful\, powerful mantras. \nBring a mala if you have one.\n\n\n\n\n\n\n\n\nRegister Here \n\n\n\n\nRegistration is booked through Cosmic Connections
URL:https://rainbowlovina.com/event/chant-the-tibetan-heart-mantras-13/
LOCATION:Zoom Online
ATTACH;FMTTYPE=image/png:https://rainbowlovina.com/wp-content/uploads/2025/12/MAY.png
ORGANIZER;CN="Cosmic Connections":MAILTO:events@cosmicconnections.com
END:VEVENT
END:VCALENDAR